BEGIN:VCALENDAR
VERSION:2.0
PRODID:-//MichiganWorksSW - ECPv6.15.20//NONSGML v1.0//EN
CALSCALE:GREGORIAN
METHOD:PUBLISH
X-WR-CALNAME:MichiganWorksSW
X-ORIGINAL-URL:https://www.michiganworkssouthwest.org
X-WR-CALDESC:Events for MichiganWorksSW
REFRESH-INTERVAL;VALUE=DURATION:PT1H
X-Robots-Tag:noindex
X-PUBLISHED-TTL:PT1H
BEGIN:VTIMEZONE
TZID:America/Detroit
BEGIN:DAYLIGHT
TZOFFSETFROM:-0500
TZOFFSETTO:-0400
TZNAME:EDT
DTSTART:20250309T070000
END:DAYLIGHT
BEGIN:STANDARD
TZOFFSETFROM:-0400
TZOFFSETTO:-0500
TZNAME:EST
DTSTART:20251102T060000
END:STANDARD
BEGIN:DAYLIGHT
TZOFFSETFROM:-0500
TZOFFSETTO:-0400
TZNAME:EDT
DTSTART:20260308T070000
END:DAYLIGHT
BEGIN:STANDARD
TZOFFSETFROM:-0400
TZOFFSETTO:-0500
TZNAME:EST
DTSTART:20261101T060000
END:STANDARD
BEGIN:DAYLIGHT
TZOFFSETFROM:-0500
TZOFFSETTO:-0400
TZNAME:EDT
DTSTART:20270314T070000
END:DAYLIGHT
BEGIN:STANDARD
TZOFFSETFROM:-0400
TZOFFSETTO:-0500
TZNAME:EST
DTSTART:20271107T060000
END:STANDARD
END:VTIMEZONE
BEGIN:VEVENT
DTSTART;TZID=America/Detroit:20260427T100000
DTEND;TZID=America/Detroit:20260427T110000
DTSTAMP:20260425T110831
CREATED:20260317T175945Z
LAST-MODIFIED:20260317T175945Z
UID:10000844-1777284000-1777287600@www.michiganworkssouthwest.org
SUMMARY:IN-PERSON Michigan Apprenticeship 1.0: For Job Seekers
DESCRIPTION:Learn how Registered Apprenticeships open pathways to high‑quality careers. Join our Apprenticeship 1.0 workshop to get started! \n\n\n\n\nDiscover how Registered Apprenticeships can open real pathways to high‑quality careers. This Apprenticeship 1.0 workshop offers career seekers of all ages a clear and supportive introduction to how Registered Apprenticeships work. We’ll break down the essentials in a straightforward\, accessible way; what to expect\, how to get started\, and the opportunities available across high‑demand fields\, so you can make informed decisions about your next steps. If you’re interested in on‑the‑job learning\, related technical instruction\, and building a long‑term career\, this session is an excellent place to begin.
URL:https://www.michiganworkssouthwest.org/event/in-person-michigan-apprenticeship-1-0-for-job-seekers
LOCATION:Calhoun County\, 200 W. Van Buren Street\, Battle Creek\, MI\, 49017\, United States
CATEGORIES:Workshop
END:VEVENT
BEGIN:VEVENT
DTSTART;TZID=America/Detroit:20260428T110000
DTEND;TZID=America/Detroit:20260428T130000
DTSTAMP:20260425T110831
CREATED:20260325T192057Z
LAST-MODIFIED:20260325T192057Z
UID:10000865-1777374000-1777381200@www.michiganworkssouthwest.org
SUMMARY:St. Joseph County Workshop: Ace the Interview
DESCRIPTION:Join Michigan Works! Southwest to learn the necessary skills to walk confidently into your next interview! \n\n\n\n\nAce the Interview \nIn this workshop Michigan Works! Southwest staff will explore how to interview in a digital age. Interviews have changed significantly within the last few years and Michigan Works! Southwest staff want to help you stay up to date on best practices. From learning to prepare for an interview\, reviewing appropriate attire\, body language\, and professionalism\, Michigan Works! Southwest staff will equip you to walk confidently into your next interview! \nDon’t miss this opportunity to learn from the best! Whether you’re a recent graduate\, a seasoned professional\, or somewhere in between\, this event is for you. Bring your questions and get ready for an interactive session that will take your resume to the next level. \nWe can’t wait to see you there!
URL:https://www.michiganworkssouthwest.org/event/st-joseph-county-workshop-ace-the-interview-22
LOCATION:St. Joseph County\, 16587 Enterprise Drive\, Three Rivers\, MI\, 49093\, United States
CATEGORIES:Workshop
END:VEVENT
BEGIN:VEVENT
DTSTART;TZID=America/Detroit:20260428T140000
DTEND;TZID=America/Detroit:20260428T160000
DTSTAMP:20260425T110831
CREATED:20260325T150224Z
LAST-MODIFIED:20260325T150224Z
UID:10000848-1777384800-1777392000@www.michiganworkssouthwest.org
SUMMARY:Branch County Workshop: Which Resume is Best?
DESCRIPTION:Come join the Which Resume is Best? workshop and learn the secrets to crafting an outstanding resume that will make employers take notice! \n\n\n\n\nWhich Resume is Best? \nJoin us for an exciting event where we dive into the world of resumes! Are you struggling to create the perfect resume that stands out from the crowd? Wondering what employers are looking for? Look no further! \nDuring this event\, we will explore the different types of resumes for different employment histories. You will learn when it’s appropriate to use each type of resume and how to craft it in a compelling manner that resonates with employers in your field. With this knowledge\, you will be able to tailor your resume to take the next step towards beginning or starting a new career! \nDon’t miss this opportunity to learn from the best! Whether you’re a recent graduate\, a seasoned professional\, or somewhere in between\, this event is for you. Bring your questions and get ready for an interactive session that will take your resume to the next level. \nWe can’t wait to see you there!
URL:https://www.michiganworkssouthwest.org/event/branch-county-workshop-which-resume-is-best-41
LOCATION:Branch County\, 398 Marshall Street\, Coldwater\, MI\, 49036\, United States
CATEGORIES:Workshop
END:VEVENT
BEGIN:VEVENT
DTSTART;TZID=America/Detroit:20260429T100000
DTEND;TZID=America/Detroit:20260429T120000
DTSTAMP:20260425T110831
CREATED:20260325T174730Z
LAST-MODIFIED:20260325T174730Z
UID:10000857-1777456800-1777464000@www.michiganworkssouthwest.org
SUMMARY:Calhoun County Workshop: Career Exploration
DESCRIPTION:Come join the Career Exploration workshop and identify which career opportunities are a good fit for you! \n\n\n\n\nWelcome to the Career Exploration Workshop! Join us for an exciting event where you can discover new career opportunities and learn about different industries. This in-person workshop will utilize the ONET interest profile alongside several other resources to help you identify career opportunities in growing industries and how to train for those opportunities! Whether you are a young job seeker or someone exploring making a career change or transition\, this workshop is for you! Don’t miss out on this chance to learn more about potential career opportunities. See you there!
URL:https://www.michiganworkssouthwest.org/event/calhoun-county-workshop-career-exploration-5
LOCATION:Calhoun County\, 200 W. Van Buren Street\, Battle Creek\, MI\, 49017\, United States
CATEGORIES:Workshop
END:VEVENT
BEGIN:VEVENT
DTSTART;TZID=America/Detroit:20260429T100000
DTEND;TZID=America/Detroit:20260429T120000
DTSTAMP:20260425T110831
CREATED:20260325T190259Z
LAST-MODIFIED:20260325T190259Z
UID:10000863-1777456800-1777464000@www.michiganworkssouthwest.org
SUMMARY:Kalamazoo County Workshop: Ace the Interview
DESCRIPTION:Join Michigan Works! Southwest to learn interviewing skills to walk confidently into your next interview! \n\n\n\n\nAce the Interview \nIn this workshop Michigan Works! Southwest staff will explore how to interview in a digital age. Interviews have changed significantly within the last few years and Michigan Works! Southwest staff want to help you stay up to date on best practices. From learning to prepare for an interview\, reviewing appropriate attire\, body language\, and professionalism\, Michigan Works! Southwest staff will equip you to walk confidently into your next interview! \nDon’t miss this opportunity to learn from the best! Whether you’re a recent graduate\, a seasoned professional\, or somewhere in between\, this event is for you. Bring your questions and get ready for an interactive session that will take your resume to the next level. \nWe can’t wait to see you there!
URL:https://www.michiganworkssouthwest.org/event/kalamazoo-county-workshop-ace-the-interview-41
LOCATION:Kalamazoo County\, 1601 S. Burdick Street\, KALAMAZOO\, MI\, 49001\, United States
CATEGORIES:Workshop
END:VEVENT
BEGIN:VEVENT
DTSTART;TZID=America/Detroit:20260430T100000
DTEND;TZID=America/Detroit:20260430T110000
DTSTAMP:20260425T110831
CREATED:20260317T180808Z
LAST-MODIFIED:20260317T180914Z
UID:10000845-1777543200-1777546800@www.michiganworkssouthwest.org
SUMMARY:IN-PERSON Michigan Apprenticeship 1.0: For Job Seekers
DESCRIPTION:Learn how Registered Apprenticeships open pathways to high‑quality careers. Join our Apprenticeship 1.0 workshop to get started! \n\n\n\n\nDiscover how Registered Apprenticeships can open real pathways to high‑quality careers. This Apprenticeship 1.0 workshop offers career seekers of all ages a clear and supportive introduction to how Registered Apprenticeships work. We’ll break down the essentials in a straightforward\, accessible way; what to expect\, how to get started\, and the opportunities available across high‑demand fields\, so you can make informed decisions about your next steps. If you’re interested in on‑the‑job learning\, related technical instruction\, and building a long‑term career\, this session is an excellent place to begin.
URL:https://www.michiganworkssouthwest.org/in-person-michigan-apprenticeship-1.0-for-job-seekers
LOCATION:Kalamazoo County\, 1601 S. Burdick Street\, KALAMAZOO\, MI\, 49001\, United States
CATEGORIES:Workshop
END:VEVENT
END:VCALENDAR