BEGIN:VCALENDAR
VERSION:2.0
PRODID:-//MichiganWorksSW - ECPv6.15.20//NONSGML v1.0//EN
CALSCALE:GREGORIAN
METHOD:PUBLISH
X-WR-CALNAME:MichiganWorksSW
X-ORIGINAL-URL:https://www.michiganworkssouthwest.org
X-WR-CALDESC:Events for MichiganWorksSW
REFRESH-INTERVAL;VALUE=DURATION:PT1H
X-Robots-Tag:noindex
X-PUBLISHED-TTL:PT1H
BEGIN:VTIMEZONE
TZID:America/Detroit
BEGIN:DAYLIGHT
TZOFFSETFROM:-0500
TZOFFSETTO:-0400
TZNAME:EDT
DTSTART:20220313T070000
END:DAYLIGHT
BEGIN:STANDARD
TZOFFSETFROM:-0400
TZOFFSETTO:-0500
TZNAME:EST
DTSTART:20221106T060000
END:STANDARD
BEGIN:DAYLIGHT
TZOFFSETFROM:-0500
TZOFFSETTO:-0400
TZNAME:EDT
DTSTART:20230312T070000
END:DAYLIGHT
BEGIN:STANDARD
TZOFFSETFROM:-0400
TZOFFSETTO:-0500
TZNAME:EST
DTSTART:20231105T060000
END:STANDARD
BEGIN:DAYLIGHT
TZOFFSETFROM:-0500
TZOFFSETTO:-0400
TZNAME:EDT
DTSTART:20240310T070000
END:DAYLIGHT
BEGIN:STANDARD
TZOFFSETFROM:-0400
TZOFFSETTO:-0500
TZNAME:EST
DTSTART:20241103T060000
END:STANDARD
END:VTIMEZONE
BEGIN:VEVENT
DTSTART;TZID=America/Detroit:20231102T140000
DTEND;TZID=America/Detroit:20231102T160000
DTSTAMP:20260421T145229
CREATED:20231101T184855Z
LAST-MODIFIED:20231101T184855Z
UID:10000136-1698933600-1698940800@www.michiganworkssouthwest.org
SUMMARY:St. Joseph County Workshop: Which Resume is Best?
DESCRIPTION:Which Resume is Best? \nJoin Michigan Works! Southwest for an exciting event where we dive into the world of resumes! Are you struggling to create the perfect resume that stands out from the crowd? Wondering what employers are looking for? Look no further! \nDuring this in-person event\, we will explore the different types of resumes for different employment histories. You will learn when it’s appropriate to use each type of resume and how to craft it in a compelling manner that resonates with employers in your field. With this knowledge\, you will be able to tailor your resume to take the next step towards beginning or starting a new career! \nDon’t miss this opportunity to learn from the best! Whether you’re a recent graduate\, a seasoned professional\, or somewhere in between\, this event is for you. Bring your questions and get ready for an interactive session that will take your resume to the next level. \nWe can’t wait to see you there!
URL:https://www.michiganworkssouthwest.org/event/st-joseph-county-workshop-which-resume-is-best-2
LOCATION:St. Joseph County\, 16587 Enterprise Drive\, Three Rivers\, MI\, 49093\, United States
CATEGORIES:Workshop
END:VEVENT
BEGIN:VEVENT
DTSTART;TZID=America/Detroit:20231024T100000
DTEND;TZID=America/Detroit:20231024T110000
DTSTAMP:20260421T145229
CREATED:20230928T143653Z
LAST-MODIFIED:20230928T144904Z
UID:10000114-1698141600-1698145200@www.michiganworkssouthwest.org
SUMMARY:Ace the Interview Workshop - St. Joseph County
DESCRIPTION:Ace the Interview \nJoin us for an exciting event where you will learn the skills you need to walk confidently into your next interview! \nDate: Tue Oct 24\, 2023 \nTime: 10:00-11:00am \nLocation: 16587 Enterprise Drive #5\, Three Rivers\, MI 449093 \nIn this workshop Michigan Works! Southwest staff will explore how to interview in a digital age. Interviews have changed significantly within the last few years and Michigan Works! Southwest staff want to help you stay up to date on best practices. From learning to prepare for an interview\, reviewing appropriate attire\, body language\, and professionalism\, Michigan Works! Southwest staff will equip you to walk confidently into your next interview! \nDon’t miss this opportunity to learn from the best! Whether you’re a recent graduate\, a seasoned professional\, or somewhere in between\, this event is for you. Bring your questions and get ready for an interactive session that will take your interviewing skills to the next level. \nWe can’t wait to see you there!
URL:https://www.michiganworkssouthwest.org/event/ace-the-interview-workshop-st-joseph-county
LOCATION:St. Joseph County\, 16587 Enterprise Drive\, Three Rivers\, MI\, 49093\, United States
CATEGORIES:Workshop
END:VEVENT
BEGIN:VEVENT
DTSTART;TZID=America/Detroit:20231019T150000
DTEND;TZID=America/Detroit:20231019T170000
DTSTAMP:20260421T145229
CREATED:20230928T140145Z
LAST-MODIFIED:20230928T140918Z
UID:10000112-1697727600-1697734800@www.michiganworkssouthwest.org
SUMMARY:Which Resume Is Best? Workshop - St. Joseph County
DESCRIPTION:Which Resume is Best? \nJoin us for an exciting event where we dive into the world of resumes! Are you struggling to create the perfect resume that stands out from the crowd? Wondering what employers are looking for? Look no further! \nDate: Tue Oct 19\, 2023 \nTime: 3:00-5:00pm \nLocation: 16587 Enterprise Drive #5\, Three Rivers\, MI 49093 \nDuring this in-person event\, we will explore the different types of resumes for different employment histories. You will learn when it’s appropriate to use each type of resume and how to craft it in a compelling manner that resonates with employers in your field. With this knowledge\, you will be able to tailor your resume to take the next step towards beginning or starting a new career! \nDon’t miss this opportunity to learn from the best! Whether you’re a recent graduate\, a seasoned professional\, or somewhere in between\, this event is for you. Bring your questions and get ready for an interactive session that will take your resume to the next level. We can’t wait to see you there!
URL:https://www.michiganworkssouthwest.org/event/which-resume-is-best-workshop-st-joseph-county
LOCATION:St. Joseph County\, 16587 Enterprise Drive\, Three Rivers\, MI\, 49093\, United States
CATEGORIES:Workshop
END:VEVENT
BEGIN:VEVENT
DTSTART;TZID=America/Detroit:20230822T100000
DTEND;TZID=America/Detroit:20230822T130000
DTSTAMP:20260421T145229
CREATED:20230818T132530Z
LAST-MODIFIED:20230818T132817Z
UID:10000088-1692698400-1692709200@www.michiganworkssouthwest.org
SUMMARY:Employer of the Day: Fresenius Medical Care
DESCRIPTION:Fresenius is looking to hire Chronic/clinic RN\, Home Therapies RN\, and Patient Care Technicians. Stop by the Michigan Works! Southwest St. Joseph County Service Center in Three Rivers from 10am-1pm on August 22\, 2023 and meet with Fresenius staff to learn about the positions and opportunities Fresenius has for you! \nFor more information check out Fresenius’ career site below for available opportunities near you. \n  \nCan’t make the event? Contact Carroll Rambo for more details:  \nEmail – Carroll.Rambo@freseniusmedicalcare.com \nPhone – (380) 238-9631
URL:https://www.michiganworkssouthwest.org/event/3796
LOCATION:St. Joseph County\, 16587 Enterprise Drive\, Three Rivers\, MI\, 49093\, United States
END:VEVENT
BEGIN:VEVENT
DTSTART;TZID=America/Detroit:20230615T100000
DTEND;TZID=America/Detroit:20230615T130000
DTSTAMP:20260421T145229
CREATED:20230628T125912Z
LAST-MODIFIED:20230628T131804Z
UID:10000064-1686823200-1686834000@www.michiganworkssouthwest.org
SUMMARY:Adult and Dislocated Service Workers
DESCRIPTION:Trainer of the Day\nStop in to see if you qualify for FREE Trainings
URL:https://www.michiganworkssouthwest.org/event/adult-and-dislocated-service-workers
LOCATION:St. Joseph County\, 16587 Enterprise Drive\, Three Rivers\, MI\, 49093\, United States
CATEGORIES:Hiring Event
END:VEVENT
END:VCALENDAR