BEGIN:VCALENDAR
VERSION:2.0
PRODID:-//MichiganWorksSW - ECPv6.15.20//NONSGML v1.0//EN
CALSCALE:GREGORIAN
METHOD:PUBLISH
X-ORIGINAL-URL:https://www.michiganworkssouthwest.org
X-WR-CALDESC:Events for MichiganWorksSW
REFRESH-INTERVAL;VALUE=DURATION:PT1H
X-Robots-Tag:noindex
X-PUBLISHED-TTL:PT1H
BEGIN:VTIMEZONE
TZID:America/Detroit
BEGIN:DAYLIGHT
TZOFFSETFROM:-0500
TZOFFSETTO:-0400
TZNAME:EDT
DTSTART:20250309T070000
END:DAYLIGHT
BEGIN:STANDARD
TZOFFSETFROM:-0400
TZOFFSETTO:-0500
TZNAME:EST
DTSTART:20251102T060000
END:STANDARD
BEGIN:DAYLIGHT
TZOFFSETFROM:-0500
TZOFFSETTO:-0400
TZNAME:EDT
DTSTART:20260308T070000
END:DAYLIGHT
BEGIN:STANDARD
TZOFFSETFROM:-0400
TZOFFSETTO:-0500
TZNAME:EST
DTSTART:20261101T060000
END:STANDARD
BEGIN:DAYLIGHT
TZOFFSETFROM:-0500
TZOFFSETTO:-0400
TZNAME:EDT
DTSTART:20270314T070000
END:DAYLIGHT
BEGIN:STANDARD
TZOFFSETFROM:-0400
TZOFFSETTO:-0500
TZNAME:EST
DTSTART:20271107T060000
END:STANDARD
END:VTIMEZONE
BEGIN:VEVENT
DTSTART;TZID=America/Detroit:20260428T110000
DTEND;TZID=America/Detroit:20260428T130000
DTSTAMP:20260425T110150
CREATED:20260325T192057Z
LAST-MODIFIED:20260325T192057Z
UID:10000865-1777374000-1777381200@www.michiganworkssouthwest.org
SUMMARY:St. Joseph County Workshop: Ace the Interview
DESCRIPTION:Join Michigan Works! Southwest to learn the necessary skills to walk confidently into your next interview! \n\n\n\n\nAce the Interview \nIn this workshop Michigan Works! Southwest staff will explore how to interview in a digital age. Interviews have changed significantly within the last few years and Michigan Works! Southwest staff want to help you stay up to date on best practices. From learning to prepare for an interview\, reviewing appropriate attire\, body language\, and professionalism\, Michigan Works! Southwest staff will equip you to walk confidently into your next interview! \nDon’t miss this opportunity to learn from the best! Whether you’re a recent graduate\, a seasoned professional\, or somewhere in between\, this event is for you. Bring your questions and get ready for an interactive session that will take your resume to the next level. \nWe can’t wait to see you there!
URL:https://www.michiganworkssouthwest.org/event/st-joseph-county-workshop-ace-the-interview-22
LOCATION:St. Joseph County\, 16587 Enterprise Drive\, Three Rivers\, MI\, 49093\, United States
CATEGORIES:Workshop
END:VEVENT
BEGIN:VEVENT
DTSTART;TZID=America/Detroit:20260428T140000
DTEND;TZID=America/Detroit:20260428T160000
DTSTAMP:20260425T110150
CREATED:20260325T150224Z
LAST-MODIFIED:20260325T150224Z
UID:10000848-1777384800-1777392000@www.michiganworkssouthwest.org
SUMMARY:Branch County Workshop: Which Resume is Best?
DESCRIPTION:Come join the Which Resume is Best? workshop and learn the secrets to crafting an outstanding resume that will make employers take notice! \n\n\n\n\nWhich Resume is Best? \nJoin us for an exciting event where we dive into the world of resumes! Are you struggling to create the perfect resume that stands out from the crowd? Wondering what employers are looking for? Look no further! \nDuring this event\, we will explore the different types of resumes for different employment histories. You will learn when it’s appropriate to use each type of resume and how to craft it in a compelling manner that resonates with employers in your field. With this knowledge\, you will be able to tailor your resume to take the next step towards beginning or starting a new career! \nDon’t miss this opportunity to learn from the best! Whether you’re a recent graduate\, a seasoned professional\, or somewhere in between\, this event is for you. Bring your questions and get ready for an interactive session that will take your resume to the next level. \nWe can’t wait to see you there!
URL:https://www.michiganworkssouthwest.org/event/branch-county-workshop-which-resume-is-best-41
LOCATION:Branch County\, 398 Marshall Street\, Coldwater\, MI\, 49036\, United States
CATEGORIES:Workshop
END:VEVENT
END:VCALENDAR