BEGIN:VCALENDAR
VERSION:2.0
PRODID:-//MichiganWorksSW - ECPv6.15.20//NONSGML v1.0//EN
CALSCALE:GREGORIAN
METHOD:PUBLISH
X-ORIGINAL-URL:https://www.michiganworkssouthwest.org
X-WR-CALDESC:Events for MichiganWorksSW
REFRESH-INTERVAL;VALUE=DURATION:PT1H
X-Robots-Tag:noindex
X-PUBLISHED-TTL:PT1H
BEGIN:VTIMEZONE
TZID:America/Detroit
BEGIN:DAYLIGHT
TZOFFSETFROM:-0500
TZOFFSETTO:-0400
TZNAME:EDT
DTSTART:20250309T070000
END:DAYLIGHT
BEGIN:STANDARD
TZOFFSETFROM:-0400
TZOFFSETTO:-0500
TZNAME:EST
DTSTART:20251102T060000
END:STANDARD
BEGIN:DAYLIGHT
TZOFFSETFROM:-0500
TZOFFSETTO:-0400
TZNAME:EDT
DTSTART:20260308T070000
END:DAYLIGHT
BEGIN:STANDARD
TZOFFSETFROM:-0400
TZOFFSETTO:-0500
TZNAME:EST
DTSTART:20261101T060000
END:STANDARD
BEGIN:DAYLIGHT
TZOFFSETFROM:-0500
TZOFFSETTO:-0400
TZNAME:EDT
DTSTART:20270314T070000
END:DAYLIGHT
BEGIN:STANDARD
TZOFFSETFROM:-0400
TZOFFSETTO:-0500
TZNAME:EST
DTSTART:20271107T060000
END:STANDARD
END:VTIMEZONE
BEGIN:VEVENT
DTSTART;TZID=America/Detroit:20260409T090000
DTEND;TZID=America/Detroit:20260409T123000
DTSTAMP:20260421T200153
CREATED:20260325T193257Z
LAST-MODIFIED:20260325T193257Z
UID:10000868-1775725200-1775737800@www.michiganworkssouthwest.org
SUMMARY:Branch County Employer of the Day: Real Alloy
DESCRIPTION:Stop by the MW! Branch County Service Center to learn about the employment opportunities at Real Alloy! \n\n\n\n\nJoin Michigan Works! Southwest for an in-person event at the Branch County Service Center where Real Alloy is the featured Employer of the Day! Don’t miss the opportunity to connect and learn about the career opportunities they have to offer! \nOpenings are available for: Production Labor – Weekend Nights\, Lab Technician – Weekend Nights\, Production Labor – Nights\, and Processing Labor 2nd \nCome with your resume and questions\, and get ready to make a lasting impression. See you there!
URL:https://www.michiganworkssouthwest.org/event/branch-county-employer-of-the-day-real-alloy
LOCATION:Branch County\, 398 Marshall Street\, Coldwater\, MI\, 49036\, United States
CATEGORIES:Hiring Event
END:VEVENT
END:VCALENDAR