BEGIN:VCALENDAR
VERSION:2.0
PRODID:-//MichiganWorksSW - ECPv6.15.20//NONSGML v1.0//EN
CALSCALE:GREGORIAN
METHOD:PUBLISH
X-ORIGINAL-URL:https://www.michiganworkssouthwest.org
X-WR-CALDESC:Events for MichiganWorksSW
REFRESH-INTERVAL;VALUE=DURATION:PT1H
X-Robots-Tag:noindex
X-PUBLISHED-TTL:PT1H
BEGIN:VTIMEZONE
TZID:America/Detroit
BEGIN:DAYLIGHT
TZOFFSETFROM:-0500
TZOFFSETTO:-0400
TZNAME:EDT
DTSTART:20250309T070000
END:DAYLIGHT
BEGIN:STANDARD
TZOFFSETFROM:-0400
TZOFFSETTO:-0500
TZNAME:EST
DTSTART:20251102T060000
END:STANDARD
BEGIN:DAYLIGHT
TZOFFSETFROM:-0500
TZOFFSETTO:-0400
TZNAME:EDT
DTSTART:20260308T070000
END:DAYLIGHT
BEGIN:STANDARD
TZOFFSETFROM:-0400
TZOFFSETTO:-0500
TZNAME:EST
DTSTART:20261101T060000
END:STANDARD
BEGIN:DAYLIGHT
TZOFFSETFROM:-0500
TZOFFSETTO:-0400
TZNAME:EDT
DTSTART:20270314T070000
END:DAYLIGHT
BEGIN:STANDARD
TZOFFSETFROM:-0400
TZOFFSETTO:-0500
TZNAME:EST
DTSTART:20271107T060000
END:STANDARD
END:VTIMEZONE
BEGIN:VEVENT
DTSTART;TZID=America/Detroit:20260407T100000
DTEND;TZID=America/Detroit:20260407T120000
DTSTAMP:20260422T004619
CREATED:20260325T193203Z
LAST-MODIFIED:20260325T193203Z
UID:10000867-1775556000-1775563200@www.michiganworkssouthwest.org
SUMMARY:St Joseph County Employer of the Day: Amrize
DESCRIPTION:Stop by the MW! Three Rivers Service Center to learn about the employment opportunities at Amrize \n\n\n\n\nJoin Michigan Works! Southwest for an in-person event at the St. Joseph County Service Center where Amrize is the featured Employer of the Day! Don’t miss the opportunity to connect and learn about the career opportunities they have to offer! \nHiring for: Production Supervisor\, Process Engineer\, General Production\, Journeyman Electrician\, and Maintenance Technician \nCome with your resume and questions\, and get ready to make a lasting impression. See you there!
URL:https://www.michiganworkssouthwest.org/event/st-joseph-county-employer-of-the-day-amrize-2
LOCATION:St. Joseph County\, 16587 Enterprise Drive\, Three Rivers\, MI\, 49093\, United States
CATEGORIES:Hiring Event
END:VEVENT
BEGIN:VEVENT
DTSTART;TZID=America/Detroit:20260407T110000
DTEND;TZID=America/Detroit:20260407T130000
DTSTAMP:20260422T004619
CREATED:20260325T181022Z
LAST-MODIFIED:20260325T181022Z
UID:10000858-1775559600-1775566800@www.michiganworkssouthwest.org
SUMMARY:Kalamazoo County Workshop: Michigan Works! Orientation
DESCRIPTION:In this session\, career coaches will walk you through the various programs offered by Michigan Works! Southwest. \n\n\n\n\nIn this session\, career coaches will walk you through the various programs offered by Michigan Works! Southwest and other community resources that assist in training\, removing barriers\, and employment. \nRSVP today to take part in this free workshop and learn about the opportunities available to you through Michigan Works! Southwest services!
URL:https://www.michiganworkssouthwest.org/event/kalamazoo-county-workshop-michigan-works-orientation-4
LOCATION:Kalamazoo County\, 1601 S. Burdick Street\, KALAMAZOO\, MI\, 49001\, United States
CATEGORIES:Workshop
END:VEVENT
BEGIN:VEVENT
DTSTART;TZID=America/Detroit:20260407T140000
DTEND;TZID=America/Detroit:20260407T160000
DTSTAMP:20260422T004619
CREATED:20260325T141257Z
LAST-MODIFIED:20260325T141257Z
UID:10000846-1775570400-1775577600@www.michiganworkssouthwest.org
SUMMARY:Branch County Workshop: Which Resume is Best?
DESCRIPTION:Come join the Which Resume is Best? workshop and learn the secrets to crafting an outstanding resume that will make employers take notice! \n\n\n\n\nWhich Resume is Best? \nJoin us for an exciting event where we dive into the world of resumes! Are you struggling to create the perfect resume that stands out from the crowd? Wondering what employers are looking for? Look no further! \nDuring this event\, we will explore the different types of resumes for different employment histories. You will learn when it’s appropriate to use each type of resume and how to craft it in a compelling manner that resonates with employers in your field. With this knowledge\, you will be able to tailor your resume to take the next step towards beginning or starting a new career! \nDon’t miss this opportunity to learn from the best! Whether you’re a recent graduate\, a seasoned professional\, or somewhere in between\, this event is for you. Bring your questions and get ready for an interactive session that will take your resume to the next level. \nWe can’t wait to see you there!
URL:https://www.michiganworkssouthwest.org/event/branch-county-workshop-which-resume-is-best-40
LOCATION:Branch County\, 398 Marshall Street\, Coldwater\, MI\, 49036\, United States
CATEGORIES:Workshop
END:VEVENT
END:VCALENDAR