BEGIN:VCALENDAR
VERSION:2.0
PRODID:-//MichiganWorksSW - ECPv6.15.20//NONSGML v1.0//EN
CALSCALE:GREGORIAN
METHOD:PUBLISH
X-WR-CALNAME:MichiganWorksSW
X-ORIGINAL-URL:https://www.michiganworkssouthwest.org
X-WR-CALDESC:Events for MichiganWorksSW
REFRESH-INTERVAL;VALUE=DURATION:PT1H
X-Robots-Tag:noindex
X-PUBLISHED-TTL:PT1H
BEGIN:VTIMEZONE
TZID:America/Detroit
BEGIN:DAYLIGHT
TZOFFSETFROM:-0500
TZOFFSETTO:-0400
TZNAME:EDT
DTSTART:20240310T070000
END:DAYLIGHT
BEGIN:STANDARD
TZOFFSETFROM:-0400
TZOFFSETTO:-0500
TZNAME:EST
DTSTART:20241103T060000
END:STANDARD
BEGIN:DAYLIGHT
TZOFFSETFROM:-0500
TZOFFSETTO:-0400
TZNAME:EDT
DTSTART:20250309T070000
END:DAYLIGHT
BEGIN:STANDARD
TZOFFSETFROM:-0400
TZOFFSETTO:-0500
TZNAME:EST
DTSTART:20251102T060000
END:STANDARD
BEGIN:DAYLIGHT
TZOFFSETFROM:-0500
TZOFFSETTO:-0400
TZNAME:EDT
DTSTART:20260308T070000
END:DAYLIGHT
BEGIN:STANDARD
TZOFFSETFROM:-0400
TZOFFSETTO:-0500
TZNAME:EST
DTSTART:20261101T060000
END:STANDARD
END:VTIMEZONE
BEGIN:VEVENT
DTSTART;TZID=America/Detroit:20250520T100000
DTEND;TZID=America/Detroit:20250520T120000
DTSTAMP:20260419T202840
CREATED:20250423T195003Z
LAST-MODIFIED:20250423T195003Z
UID:10000540-1747735200-1747742400@www.michiganworkssouthwest.org
SUMMARY:Calhoun Workshop: Weighing the Pros & Cons of Applying for Disability
DESCRIPTION:Weighing the Pros & Cons of Applying for Disability \nThis training\, led by a Disability Network community engagement representative\, offers a basic introduction to the Social Security Administration’s (SSA) disability benefits system. Attendees will gain insights to help determine whether applying for disability benefits would be necessary and advantageous for their specific situation. The session will cover the two primary SSA programs\, Supplemental Security Income (SSI) and Social Security Disability Insurance (SSDI)\, along with an overview of the application process. Additionally\, the training will emphasize the importance of continued employment and explore the benefits of working while receiving disability benefits.
URL:https://www.michiganworkssouthwest.org/event/calhoun-workshop-weighing-the-pros-cons-of-applying-for-disability
LOCATION:Calhoun County\, 200 W. Van Buren Street\, Battle Creek\, MI\, 49017\, United States
CATEGORIES:Workshop
END:VEVENT
BEGIN:VEVENT
DTSTART;TZID=America/Detroit:20250520T110000
DTEND;TZID=America/Detroit:20250520T130000
DTSTAMP:20260419T202840
CREATED:20250505T160009Z
LAST-MODIFIED:20250505T160009Z
UID:10000550-1747738800-1747746000@www.michiganworkssouthwest.org
SUMMARY:St. Joseph County Workshop: Ace the Interview
DESCRIPTION:Ace the Interview \nIn this workshop Michigan Works! Southwest staff will explore how to interview in a digital age. Interviews have changed significantly within the last few years and Michigan Works! Southwest staff want to help you stay up to date on best practices. From learning to prepare for an interview\, reviewing appropriate attire\, body language\, and professionalism\, Michigan Works! Southwest staff will equip you to walk confidently into your next interview! \nDon’t miss this opportunity to learn from the best! Whether you’re a recent graduate\, a seasoned professional\, or somewhere in between\, this event is for you. Bring your questions and get ready for an interactive session that will take your resume to the next level. \nWe can’t wait to see you there!
URL:https://www.michiganworkssouthwest.org/event/st-joseph-county-workshop-ace-the-interview-11
LOCATION:St. Joseph County\, 16587 Enterprise Drive\, Three Rivers\, MI\, 49093\, United States
CATEGORIES:Workshop
END:VEVENT
END:VCALENDAR