BEGIN:VCALENDAR
VERSION:2.0
PRODID:-//MichiganWorksSW - ECPv6.15.20//NONSGML v1.0//EN
CALSCALE:GREGORIAN
METHOD:PUBLISH
X-WR-CALNAME:MichiganWorksSW
X-ORIGINAL-URL:https://www.michiganworkssouthwest.org
X-WR-CALDESC:Events for MichiganWorksSW
REFRESH-INTERVAL;VALUE=DURATION:PT1H
X-Robots-Tag:noindex
X-PUBLISHED-TTL:PT1H
BEGIN:VTIMEZONE
TZID:America/Detroit
BEGIN:DAYLIGHT
TZOFFSETFROM:-0500
TZOFFSETTO:-0400
TZNAME:EDT
DTSTART:20240310T070000
END:DAYLIGHT
BEGIN:STANDARD
TZOFFSETFROM:-0400
TZOFFSETTO:-0500
TZNAME:EST
DTSTART:20241103T060000
END:STANDARD
BEGIN:DAYLIGHT
TZOFFSETFROM:-0500
TZOFFSETTO:-0400
TZNAME:EDT
DTSTART:20250309T070000
END:DAYLIGHT
BEGIN:STANDARD
TZOFFSETFROM:-0400
TZOFFSETTO:-0500
TZNAME:EST
DTSTART:20251102T060000
END:STANDARD
BEGIN:DAYLIGHT
TZOFFSETFROM:-0500
TZOFFSETTO:-0400
TZNAME:EDT
DTSTART:20260308T070000
END:DAYLIGHT
BEGIN:STANDARD
TZOFFSETFROM:-0400
TZOFFSETTO:-0500
TZNAME:EST
DTSTART:20261101T060000
END:STANDARD
END:VTIMEZONE
BEGIN:VEVENT
DTSTART;TZID=America/Detroit:20250513T130000
DTEND;TZID=America/Detroit:20250513T150000
DTSTAMP:20260419T100415
CREATED:20250423T172603Z
LAST-MODIFIED:20250423T172603Z
UID:10000538-1747141200-1747148400@www.michiganworkssouthwest.org
SUMMARY:Calhoun County Workshop: Getting Disability Accommodations on the Job
DESCRIPTION:Getting Disability Accommodations on the Job \nThis training\, led by a Disability Network community engagement representative\, provides valuable guidance on navigating disability disclosure and accommodation in the workplace. Participants will learn how to assess the pros and cons of disclosing a disability to an employer and the proper steps for requesting accommodations on the job. The session will also cover when individuals are legally protected under the Americans with Disabilities Act (ADA) and situations where ADA coverage may not apply\, empowering attendees with the knowledge to advocate for their rights in professional settings.
URL:https://www.michiganworkssouthwest.org/event/calhoun-county-workshop-getting-disability-accommodations-on-the-job-3
LOCATION:Calhoun County\, 200 W. Van Buren Street\, Battle Creek\, MI\, 49017\, United States
CATEGORIES:Workshop
END:VEVENT
END:VCALENDAR