BEGIN:VCALENDAR
VERSION:2.0
PRODID:-//MichiganWorksSW - ECPv6.15.20//NONSGML v1.0//EN
CALSCALE:GREGORIAN
METHOD:PUBLISH
X-WR-CALNAME:MichiganWorksSW
X-ORIGINAL-URL:https://www.michiganworkssouthwest.org
X-WR-CALDESC:Events for MichiganWorksSW
REFRESH-INTERVAL;VALUE=DURATION:PT1H
X-Robots-Tag:noindex
X-PUBLISHED-TTL:PT1H
BEGIN:VTIMEZONE
TZID:America/Detroit
BEGIN:DAYLIGHT
TZOFFSETFROM:-0500
TZOFFSETTO:-0400
TZNAME:EDT
DTSTART:20240310T070000
END:DAYLIGHT
BEGIN:STANDARD
TZOFFSETFROM:-0400
TZOFFSETTO:-0500
TZNAME:EST
DTSTART:20241103T060000
END:STANDARD
BEGIN:DAYLIGHT
TZOFFSETFROM:-0500
TZOFFSETTO:-0400
TZNAME:EDT
DTSTART:20250309T070000
END:DAYLIGHT
BEGIN:STANDARD
TZOFFSETFROM:-0400
TZOFFSETTO:-0500
TZNAME:EST
DTSTART:20251102T060000
END:STANDARD
BEGIN:DAYLIGHT
TZOFFSETFROM:-0500
TZOFFSETTO:-0400
TZNAME:EDT
DTSTART:20260308T070000
END:DAYLIGHT
BEGIN:STANDARD
TZOFFSETFROM:-0400
TZOFFSETTO:-0500
TZNAME:EST
DTSTART:20261101T060000
END:STANDARD
END:VTIMEZONE
BEGIN:VEVENT
DTSTART;TZID=America/Detroit:20250411T130000
DTEND;TZID=America/Detroit:20250411T150000
DTSTAMP:20260421T060913
CREATED:20250312T170011Z
LAST-MODIFIED:20250312T170011Z
UID:10000508-1744376400-1744383600@www.michiganworkssouthwest.org
SUMMARY:Calhoun County Workshop: Michigan Works! Orientation
DESCRIPTION:In this session\, career coaches will walk you through the various programs offered by Michigan Works! Southwest and other community resources that assist in training\, removing barriers\, and employment. \nRSVP today to take part in this free workshop and learn about the opportunities available to you through Michigan Works! Southwest services!
URL:https://www.michiganworkssouthwest.org/event/calhoun-county-workshop-michigan-works-orientation-10
LOCATION:Calhoun County\, 200 W. Van Buren Street\, Battle Creek\, MI\, 49017\, United States
CATEGORIES:Workshop
END:VEVENT
END:VCALENDAR