BEGIN:VCALENDAR
VERSION:2.0
PRODID:-//MichiganWorksSW - ECPv6.15.20//NONSGML v1.0//EN
CALSCALE:GREGORIAN
METHOD:PUBLISH
X-WR-CALNAME:MichiganWorksSW
X-ORIGINAL-URL:https://www.michiganworkssouthwest.org
X-WR-CALDESC:Events for MichiganWorksSW
REFRESH-INTERVAL;VALUE=DURATION:PT1H
X-Robots-Tag:noindex
X-PUBLISHED-TTL:PT1H
BEGIN:VTIMEZONE
TZID:America/Detroit
BEGIN:DAYLIGHT
TZOFFSETFROM:-0500
TZOFFSETTO:-0400
TZNAME:EDT
DTSTART:20230312T070000
END:DAYLIGHT
BEGIN:STANDARD
TZOFFSETFROM:-0400
TZOFFSETTO:-0500
TZNAME:EST
DTSTART:20231105T060000
END:STANDARD
BEGIN:DAYLIGHT
TZOFFSETFROM:-0500
TZOFFSETTO:-0400
TZNAME:EDT
DTSTART:20240310T070000
END:DAYLIGHT
BEGIN:STANDARD
TZOFFSETFROM:-0400
TZOFFSETTO:-0500
TZNAME:EST
DTSTART:20241103T060000
END:STANDARD
BEGIN:DAYLIGHT
TZOFFSETFROM:-0500
TZOFFSETTO:-0400
TZNAME:EDT
DTSTART:20250309T070000
END:DAYLIGHT
BEGIN:STANDARD
TZOFFSETFROM:-0400
TZOFFSETTO:-0500
TZNAME:EST
DTSTART:20251102T060000
END:STANDARD
END:VTIMEZONE
BEGIN:VEVENT
DTSTART;TZID=America/Detroit:20240605T100000
DTEND;TZID=America/Detroit:20240605T120000
DTSTAMP:20260425T235118
CREATED:20240523T154526Z
LAST-MODIFIED:20240604T125725Z
UID:10000267-1717581600-1717588800@www.michiganworkssouthwest.org
SUMMARY:Branch County Workshop: Which Resume is Best?
DESCRIPTION:Which Resume is Best? \nJoin us for an exciting event where we dive into the world of resumes! Are you struggling to create the perfect resume that stands out from the crowd? Wondering what employers are looking for? Look no further! \nDuring this event\, we will explore the different types of resumes for different employment histories. You will learn when it’s appropriate to use each type of resume and how to craft it in a compelling manner that resonates with employers in your field. With this knowledge\, you will be able to tailor your resume to take the next step towards beginning or starting a new career! \nDon’t miss this opportunity to learn from the best! Whether you’re a recent graduate\, a seasoned professional\, or somewhere in between\, this event is for you. Bring your questions and get ready for an interactive session that will take your resume to the next level. \nWe can’t wait to see you there!
URL:https://www.michiganworkssouthwest.org/event/branch-county-workshop-which-resume-is-best-4
LOCATION:Branch County\, 398 Marshall Street\, Coldwater\, MI\, 49036\, United States
END:VEVENT
BEGIN:VEVENT
DTSTART;TZID=America/Detroit:20240605T100000
DTEND;TZID=America/Detroit:20240605T120000
DTSTAMP:20260425T235118
CREATED:20240528T135236Z
LAST-MODIFIED:20240528T135236Z
UID:10000271-1717581600-1717588800@www.michiganworkssouthwest.org
SUMMARY:Calhoun County Financial Coaching: Budgeting Workshop
DESCRIPTION:Welcome to the Calhoun County Financial Coaching: Budgeting Workshop! Join us for an interactive session where you’ll learn how to manage your finances like a pro. Our workshop will help you review your financial situation and gain skills to improve your budgeting strategies to assist you in creating a sound household budget. Whether you’re just starting out or looking to improve your money management skills\, this event is perfect for you! \nDon’t miss out on this opportunity to take control of your finances and achieve your financial goals. See you there!
URL:https://www.michiganworkssouthwest.org/event/calhoun-county-financial-coaching-budgeting-workshop-3
LOCATION:Calhoun County\, 200 W. Van Buren Street\, Battle Creek\, MI\, 49017\, United States
CATEGORIES:Workshop
END:VEVENT
BEGIN:VEVENT
DTSTART;TZID=America/Detroit:20240605T130000
DTEND;TZID=America/Detroit:20240605T150000
DTSTAMP:20260425T235118
CREATED:20240523T174015Z
LAST-MODIFIED:20240523T174015Z
UID:10000269-1717592400-1717599600@www.michiganworkssouthwest.org
SUMMARY:Calhoun County Workshop: Which Resume is Best?
DESCRIPTION:Which Resume is Best? \nJoin us for an exciting event where we dive into the world of resumes! Are you struggling to create the perfect resume that stands out from the crowd? Wondering what employers are looking for? Look no further! \nDuring this event\, we will explore the different types of resumes for different employment histories. You will learn when it’s appropriate to use each type of resume and how to craft it in a compelling manner that resonates with employers in your field. With this knowledge\, you will be able to tailor your resume to take the next step towards beginning or starting a new career! \nDon’t miss this opportunity to learn from the best! Whether you’re a recent graduate\, a seasoned professional\, or somewhere in between\, this event is for you. Bring your questions and get ready for an interactive session that will take your resume to the next level. \nWe can’t wait to see you there!
URL:https://www.michiganworkssouthwest.org/event/calhoun-county-workshop-which-resume-is-best-13
LOCATION:Calhoun County\, 200 W. Van Buren Street\, Battle Creek\, MI\, 49017\, United States
CATEGORIES:Workshop
END:VEVENT
BEGIN:VEVENT
DTSTART;TZID=America/Detroit:20240605T140000
DTEND;TZID=America/Detroit:20240605T150000
DTSTAMP:20260425T235118
CREATED:20240529T140438Z
LAST-MODIFIED:20240529T140503Z
UID:10000283-1717596000-1717599600@www.michiganworkssouthwest.org
SUMMARY:Stepful Online Info Session for Medical Assistant & Pharmacy Tech Trainings
DESCRIPTION:Are you interested in a healthcare career? Join us from 2-3pm on Wednesday\, June 5th for an online info session and Q&A with the team at Stepful on how you can launch your career soon as a Medical Assistant or Pharmacy Technician. 4-month\, part-time\, online programs are available now with live\, instructor-led classes and guaranteed clinical externships for graduates! Full scholarships are available for eligible applicants. Register today to attend! \nSign up for the Virtual Event at: https://us02web.zoom.us/meeting/register/tZAucO2vrTMqHtwUALObIJDHQ7YG3dx5WNn6#/registration
URL:https://www.michiganworkssouthwest.org/event/stepful-online-info-session-for-medical-assistant-pharmacy-tech-trainings
LOCATION:Virtual Event
CATEGORIES:Workshop
END:VEVENT
END:VCALENDAR