BEGIN:VCALENDAR
VERSION:2.0
PRODID:-//MichiganWorksSW - ECPv6.15.20//NONSGML v1.0//EN
CALSCALE:GREGORIAN
METHOD:PUBLISH
X-WR-CALNAME:MichiganWorksSW
X-ORIGINAL-URL:https://www.michiganworkssouthwest.org
X-WR-CALDESC:Events for MichiganWorksSW
REFRESH-INTERVAL;VALUE=DURATION:PT1H
X-Robots-Tag:noindex
X-PUBLISHED-TTL:PT1H
BEGIN:VTIMEZONE
TZID:America/Detroit
BEGIN:DAYLIGHT
TZOFFSETFROM:-0500
TZOFFSETTO:-0400
TZNAME:EDT
DTSTART:20230312T070000
END:DAYLIGHT
BEGIN:STANDARD
TZOFFSETFROM:-0400
TZOFFSETTO:-0500
TZNAME:EST
DTSTART:20231105T060000
END:STANDARD
BEGIN:DAYLIGHT
TZOFFSETFROM:-0500
TZOFFSETTO:-0400
TZNAME:EDT
DTSTART:20240310T070000
END:DAYLIGHT
BEGIN:STANDARD
TZOFFSETFROM:-0400
TZOFFSETTO:-0500
TZNAME:EST
DTSTART:20241103T060000
END:STANDARD
BEGIN:DAYLIGHT
TZOFFSETFROM:-0500
TZOFFSETTO:-0400
TZNAME:EDT
DTSTART:20250309T070000
END:DAYLIGHT
BEGIN:STANDARD
TZOFFSETFROM:-0400
TZOFFSETTO:-0500
TZNAME:EST
DTSTART:20251102T060000
END:STANDARD
END:VTIMEZONE
BEGIN:VEVENT
DTSTART;TZID=America/Detroit:20240430T100000
DTEND;TZID=America/Detroit:20240430T140000
DTSTAMP:20260425T233331
CREATED:20240229T172336Z
LAST-MODIFIED:20240229T172336Z
UID:10000195-1714471200-1714485600@www.michiganworkssouthwest.org
SUMMARY:Calhoun County Employer of the Day: Dean Transportation
DESCRIPTION:Join Michigan Works! Southwest for an in-person event at the Calhoun County Service Center where Dean Transportation is the featured Employer of the Day! Don’t miss the opportunity to connect and learn about the career opportunities Dean Transportation has to offer. \nOpenings are available for \n\nBus Drivers\nBus Monitors\nBus Attendants\n\nCome prepared with your resume and questions\, and get ready to make a lasting impression. See you there!
URL:https://www.michiganworkssouthwest.org/event/calhoun-county-employer-of-the-day-dean-transportation-2
LOCATION:Calhoun County\, 200 W. Van Buren Street\, Battle Creek\, MI\, 49017\, United States
CATEGORIES:Hiring Event
END:VEVENT
BEGIN:VEVENT
DTSTART;TZID=America/Detroit:20240430T110000
DTEND;TZID=America/Detroit:20240430T130000
DTSTAMP:20260425T233331
CREATED:20240320T193158Z
LAST-MODIFIED:20240320T193158Z
UID:10000233-1714474800-1714482000@www.michiganworkssouthwest.org
SUMMARY:Branch County Workshop: First Days on the Job
DESCRIPTION:Are you starting a new job soon or just want to brush up on your onboarding skills? Join Michigan Works! Southwest staff for Branch County Workshop: First Days on the Job! \nDuring this event\, you’ll learn valuable tips and tricks to navigate your first days on the job successfully. From meeting new colleagues to understanding company culture\, we’ve got you covered. Don’t miss out on this opportunity to set yourself up for success in your new role! \nWhether you’re a recent graduate or a seasoned professional\, this workshop is perfect for anyone looking to make a great impression at their new job. So mark your calendars and get ready to kickstart your career with confidence!
URL:https://www.michiganworkssouthwest.org/event/branch-county-workshop-first-days-on-the-job-2
LOCATION:Branch County\, 398 Marshall Street\, Coldwater\, MI\, 49036\, United States
CATEGORIES:Workshop
END:VEVENT
END:VCALENDAR