BEGIN:VCALENDAR
VERSION:2.0
PRODID:-//MichiganWorksSW - ECPv6.15.20//NONSGML v1.0//EN
CALSCALE:GREGORIAN
METHOD:PUBLISH
X-WR-CALNAME:MichiganWorksSW
X-ORIGINAL-URL:https://www.michiganworkssouthwest.org
X-WR-CALDESC:Events for MichiganWorksSW
REFRESH-INTERVAL;VALUE=DURATION:PT1H
X-Robots-Tag:noindex
X-PUBLISHED-TTL:PT1H
BEGIN:VTIMEZONE
TZID:America/Detroit
BEGIN:DAYLIGHT
TZOFFSETFROM:-0500
TZOFFSETTO:-0400
TZNAME:EDT
DTSTART:20230312T070000
END:DAYLIGHT
BEGIN:STANDARD
TZOFFSETFROM:-0400
TZOFFSETTO:-0500
TZNAME:EST
DTSTART:20231105T060000
END:STANDARD
BEGIN:DAYLIGHT
TZOFFSETFROM:-0500
TZOFFSETTO:-0400
TZNAME:EDT
DTSTART:20240310T070000
END:DAYLIGHT
BEGIN:STANDARD
TZOFFSETFROM:-0400
TZOFFSETTO:-0500
TZNAME:EST
DTSTART:20241103T060000
END:STANDARD
BEGIN:DAYLIGHT
TZOFFSETFROM:-0500
TZOFFSETTO:-0400
TZNAME:EDT
DTSTART:20250309T070000
END:DAYLIGHT
BEGIN:STANDARD
TZOFFSETFROM:-0400
TZOFFSETTO:-0500
TZNAME:EST
DTSTART:20251102T060000
END:STANDARD
END:VTIMEZONE
BEGIN:VEVENT
DTSTART;TZID=America/Detroit:20240415T100000
DTEND;TZID=America/Detroit:20240415T130000
DTSTAMP:20260425T235117
CREATED:20240401T183937Z
LAST-MODIFIED:20240401T183937Z
UID:10000239-1713175200-1713186000@www.michiganworkssouthwest.org
SUMMARY:Kalamazoo County Employer of the Day: Auxilio Services
DESCRIPTION:Join Michigan Works! Southwest for an in-person event at the Kalamazoo County Service Center where Auxilio Services is the featured Employer of the Day! Don’t miss the opportunity to connect and learn about the career opportunities Goodwill Industries has to offer! \nOpenings are available for \n\nBus Drivers for Kalamazoo Public Schools\nBus Aides for Kalamazoo Public Schools\n\nCome with your resume and questions\, and get ready to make a lasting impression. See you there!
URL:https://www.michiganworkssouthwest.org/event/kalamazoo-county-employer-of-the-day-auxilio-services
LOCATION:Kalamazoo County\, 1601 S. Burdick Street\, KALAMAZOO\, MI\, 49001\, United States
CATEGORIES:Hiring Event
END:VEVENT
BEGIN:VEVENT
DTSTART;TZID=America/Detroit:20240415T140000
DTEND;TZID=America/Detroit:20240415T160000
DTSTAMP:20260425T235117
CREATED:20240329T165728Z
LAST-MODIFIED:20240329T165728Z
UID:10000234-1713189600-1713196800@www.michiganworkssouthwest.org
SUMMARY:St. Joseph County Workshop: Which Resume is Best?
DESCRIPTION:Which Resume is Best? \nJoin us for an exciting event where we dive into the world of resumes! Are you struggling to create the perfect resume that stands out from the crowd? Wondering what employers are looking for? Look no further! \nDuring this event\, we will explore the different types of resumes for different employment histories. You will learn when it’s appropriate to use each type of resume and how to craft it in a compelling manner that resonates with employers in your field. With this knowledge\, you will be able to tailor your resume to take the next step towards beginning or starting a new career! \nDon’t miss this opportunity to learn from the best! Whether you’re a recent graduate\, a seasoned professional\, or somewhere in between\, this event is for you. Bring your questions and get ready for an interactive session that will take your resume to the next level. \nWe can’t wait to see you there!
URL:https://www.michiganworkssouthwest.org/event/st-joseph-county-workshop-which-resume-is-best-6
LOCATION:St. Joseph County\, 16587 Enterprise Drive\, Three Rivers\, MI\, 49093\, United States
CATEGORIES:Workshop
END:VEVENT
END:VCALENDAR