BEGIN:VCALENDAR
VERSION:2.0
PRODID:-//MichiganWorksSW - ECPv6.15.20//NONSGML v1.0//EN
CALSCALE:GREGORIAN
METHOD:PUBLISH
X-WR-CALNAME:MichiganWorksSW
X-ORIGINAL-URL:https://www.michiganworkssouthwest.org
X-WR-CALDESC:Events for MichiganWorksSW
REFRESH-INTERVAL;VALUE=DURATION:PT1H
X-Robots-Tag:noindex
X-PUBLISHED-TTL:PT1H
BEGIN:VTIMEZONE
TZID:America/Detroit
BEGIN:DAYLIGHT
TZOFFSETFROM:-0500
TZOFFSETTO:-0400
TZNAME:EDT
DTSTART:20230312T070000
END:DAYLIGHT
BEGIN:STANDARD
TZOFFSETFROM:-0400
TZOFFSETTO:-0500
TZNAME:EST
DTSTART:20231105T060000
END:STANDARD
BEGIN:DAYLIGHT
TZOFFSETFROM:-0500
TZOFFSETTO:-0400
TZNAME:EDT
DTSTART:20240310T070000
END:DAYLIGHT
BEGIN:STANDARD
TZOFFSETFROM:-0400
TZOFFSETTO:-0500
TZNAME:EST
DTSTART:20241103T060000
END:STANDARD
BEGIN:DAYLIGHT
TZOFFSETFROM:-0500
TZOFFSETTO:-0400
TZNAME:EDT
DTSTART:20250309T070000
END:DAYLIGHT
BEGIN:STANDARD
TZOFFSETFROM:-0400
TZOFFSETTO:-0500
TZNAME:EST
DTSTART:20251102T060000
END:STANDARD
END:VTIMEZONE
BEGIN:VEVENT
DTSTART;TZID=America/Detroit:20240409T130000
DTEND;TZID=America/Detroit:20240409T150000
DTSTAMP:20260425T221133
CREATED:20240320T191030Z
LAST-MODIFIED:20240320T191030Z
UID:10000231-1712667600-1712674800@www.michiganworkssouthwest.org
SUMMARY:Albion Workshop: Which Resume is Best?
DESCRIPTION:Which Resume is Best? \nJoin us for an exciting event where we dive into the world of resumes! Are you struggling to create the perfect resume that stands out from the crowd? Wondering what employers are looking for? Look no further! \nDuring this event\, we will explore the different types of resumes for different employment histories. You will learn when it’s appropriate to use each type of resume and how to craft it in a compelling manner that resonates with employers in your field. With this knowledge\, you will be able to tailor your resume to take the next step towards beginning or starting a new career! \nDon’t miss this opportunity to learn from the best! Whether you’re a recent graduate\, a seasoned professional\, or somewhere in between\, this event is for you. Bring your questions and get ready for an interactive session that will take your resume to the next level. \nWe can’t wait to see you there!
URL:https://www.michiganworkssouthwest.org/event/albion-workshop-which-resume-is-best-5
LOCATION:Albion P.A.T.H. Office\, 101 N. Albion Street\, Albion\, MI\, 49224\, United States
CATEGORIES:Workshop
END:VEVENT
BEGIN:VEVENT
DTSTART;TZID=America/Detroit:20240409T140000
DTEND;TZID=America/Detroit:20240409T160000
DTSTAMP:20260425T221133
CREATED:20240308T172631Z
LAST-MODIFIED:20240308T172631Z
UID:10000213-1712671200-1712678400@www.michiganworkssouthwest.org
SUMMARY:Kalamazoo County Workshop: Ace the Interview
DESCRIPTION:Ace the Interview \nIn this workshop Michigan Works! Southwest staff will explore how to interview in a digital age. Interviews have changed significantly within the last few years and Michigan Works! Southwest staff want to help you stay up to date on best practices. From learning to prepare for an interview\, reviewing appropriate attire\, body language\, and professionalism\, Michigan Works! Southwest staff will equip you to walk confidently into your next interview! \nDon’t miss this opportunity to learn from the best! Whether you’re a recent graduate\, a seasoned professional\, or somewhere in between\, this event is for you. Bring your questions and get ready for an interactive session that will take your resume to the next level. \nWe can’t wait to see you there!
URL:https://www.michiganworkssouthwest.org/event/kalamazoo-county-workshop-ace-the-interview-5
LOCATION:Kalamazoo County\, 1601 S. Burdick Street\, KALAMAZOO\, MI\, 49001\, United States
CATEGORIES:Workshop
END:VEVENT
END:VCALENDAR